BEGIN:VCALENDAR
VERSION:2.0
PRODID:-//Bob 106.9 - #1 for New Country - ECPv5.6.0//NONSGML v1.0//EN
CALSCALE:GREGORIAN
METHOD:PUBLISH
X-WR-CALNAME:Bob 106.9 - #1 for New Country
X-ORIGINAL-URL:https://www.bob1069.com
X-WR-CALDESC:Events for Bob 106.9 - #1 for New Country
BEGIN:VTIMEZONE
TZID:America/New_York
BEGIN:DAYLIGHT
TZOFFSETFROM:-0500
TZOFFSETTO:-0400
TZNAME:EDT
DTSTART:20260308T070000
END:DAYLIGHT
BEGIN:STANDARD
TZOFFSETFROM:-0400
TZOFFSETTO:-0500
TZNAME:EST
DTSTART:20261101T060000
END:STANDARD
END:VTIMEZONE
BEGIN:VEVENT
DTSTART;VALUE=DATE:20260501
DTEND;VALUE=DATE:20260502
DTSTAMP:20260424T095722
CREATED:20260223T220422Z
LAST-MODIFIED:20260223T220422Z
UID:87602-1777593600-1777679999@www.bob1069.com
SUMMARY:Brandon Lake - King of Hearts Tour
DESCRIPTION:Brandon Lake – King of Hearts Tour with Special Guest Pat Barrett at Credit One Stadium in Charleston on Friday\, May 1st and Saturday\, May 2nd!
URL:https://www.bob1069.com/event/brandon-lake-king-of-hearts-tour/
LOCATION:Credit One Stadium\, 161 Seven Farms Drive\, Charleston\, SC\, 29492\, United States
CATEGORIES:Concerts
ATTACH;FMTTYPE=image/png:https://dehayf5mhw1h7.cloudfront.net/wp-content/uploads/sites/2317/2026/02/23170400/wubb_brandonlake26_1000x563_event.png
END:VEVENT
BEGIN:VEVENT
DTSTART;VALUE=DATE:20260502
DTEND;VALUE=DATE:20260503
DTSTAMP:20260424T095722
CREATED:20260223T220422Z
LAST-MODIFIED:20260223T220422Z
UID:87604-1777680000-1777766399@www.bob1069.com
SUMMARY:Brandon Lake - King of Hearts Tour
DESCRIPTION:Brandon Lake – King of Hearts Tour with Special Guest Pat Barrett at Credit One Stadium in Charleston on Friday\, May 1st and Saturday\, May 2nd!
URL:https://www.bob1069.com/event/brandon-lake-king-of-hearts-tour/2026-05-02/
LOCATION:Credit One Stadium\, 161 Seven Farms Drive\, Charleston\, SC\, 29492\, United States
CATEGORIES:Concerts
ATTACH;FMTTYPE=image/png:https://dehayf5mhw1h7.cloudfront.net/wp-content/uploads/sites/2317/2026/02/23170400/wubb_brandonlake26_1000x563_event.png
END:VEVENT
END:VCALENDAR